BEGIN:VCALENDAR
METHOD:PUBLISH
VERSION:2.0
PRODID:-//Eventilla iCal Syndication//NONSGML Liana//EN
BEGIN:VEVENT
UID:prNyb@eventilla.com
DTSTAMP:20260528T060000Z
DTSTART:20260528T060000Z
DTEND:20260528T080000Z
SUMMARY:Palvelumallilla energiaa — hyötyjä kiinteistönomistajalle (28.5.2026\, 9-11)
DESCRIPTION:Miten hankitaan energiaa palveluna kiinteistö- ja korttelitasolla?\nTervetuloa maksuttomaan asiantuntijatilaisuuteen\, jossa käsitellään Energiaa palveluna ‑mallin mukaista hankintaa käytännönläheisesti esimerkin ja keskustelun avulla! Käymme läpi Helsingin Sakarinmäen koulun case-esimerkin (käynnissä oleva energian­palvelu­operaattorin hankinta) sekä arvioimme\, miten sama malli skaalautuu muihin kiinteistö‑ tai kortteli­kohtaisiin ratkaisuihin. Tilaisuus pidetään suomeksi.\n\nCase-opit Sakarinmäen hankinnasta: mikä toimi\, mitä on opittu tähän mennessä.\nSopimuksen keskeiset kohdat urakointi‑ ja operointivaiheisiin (kaupungin näkökulma).\nToimittajan ja sijoittajan näkökulmat: mikä tekee tarjouspyynnöstä toteutuskelpoisen ja houkuttelevan.\nPienryhmätyö: konkreettiset kehitysehdotukset hankintadokumentteihin ja -prosessiin – hyödynnettävissä myös omissa projekteissa.\n\n \nTavoite\nTavoitteena on saada avoin ja rakentava keskustelu siitä\, onko esitetty hankintamalli toimiva – ja millä tarkennuksilla se palvelee alan tarpeita myös tulevissa hankinnoissa.\n \nKohderyhmä\n\nRakennusliikkeet ja urakoitsijat\nKiinteistösijoittajat ja -omistajat\nVuokra-asuntoyhtiöt\nMaanomistajat sekä kaupungin tilapalvelut\nEnergia‑alan palvelu‑ ja teknologiatoimijat\n\n \nAlustava ohjelma (puhujia vahvistuu myöhemmin)\n08:30 Aamukahvit & verkostoituminen 09:00 Tilaisuuden avaus 09:05 Sakarinmäen koulun energiapalveluoperaattorin hankinta neuvottelumenettelynä09:30 Yrityksen kommenttipuheenvuoro neuvottelumenettelystä9:45 Kiinteistösijoittajan näkökulma\, tekninen johtaja Mikko Somersalmi\, Rakli10:00 Etäyhteys päättyy\nTilaisuus jatkuu lähitapaamisessa10:00 Työpaja energiapalvelumallista(tarjoukset\, hinnoittelumalli\, laatu\, lunastusarvo\, sopimukset\, lämpöverkon rakentaminen)10:50 Yhteenveto: johtopäätökset ja seuraavat askeleet11:00 Tilaisuus päättyy\nTilaisuus on maksuton\, mutta ilmoittautuminen tarvitaan.\nSuosittelemme saapumista julkisilla liikennevälineillä\, jotka pysähtyvät aivan viereen. Kampuksella ei ole pysäköintimahdollisuutta\, mutta lähistöllä on maksullisia ja maksuttomia pysäköintipaikkoja.
LOCATION:Teams & Metropolia Myllypuron kampus\, Myllypurontie 1\, 00920\,
 Helsinki
URL:http://register.metropolia.fi/palvelumallilla_energiaa_28052026
END:VEVENT
END:VCALENDAR
