BEGIN:VCALENDAR
METHOD:PUBLISH
VERSION:2.0
PRODID:-//Eventilla iCal Syndication//NONSGML Liana//EN
BEGIN:VEVENT
UID:wkXWR@eventilla.com
DTSTAMP:20251022T090000Z
DTSTART:20251022T090000Z
DTEND:20251022T130000Z
SUMMARY:Turbiini All-Stars 2025
DESCRIPTION:Turbiini All-Stars – opiskelijayrittäjyyden juhla on täällä taas!\nKoe yrittäjyyden uusi aalto. Metropolian yrityshautomo Turbiini kutsuu sinut juhlimaan opiskelijayrittäjyyttä Turbiini All-Starsiin! Mistä puhutaan\, kun puhutaan opiskelijayrittäjyydestä?\nTurbiini All-Starsissa juhlistetaan opiskelijoidemme saavutuksia sekä tutustutaan yrittämisen tulevaisuuteen.\nViime vuoden lokakuussa ensimmäistä kertaa järjestetty tapahtuma ylitti odotukset:\n“Tapahtuma oli rohkeasti uudenlainen. Korkeaa tasoa rennolla\, hauskalla ja luovuutta herättävällä tavalla.”“Panostus näkyi – kannatti pitää iltapäivä vapaana!”“Laadukasta sisältöä\, hyvä flow\, upea tila ja ruokakin kohdallaan!”\nTurbiini All-Stars esittelee kuusi Turbiinin käynyttä opiskelijaa sekä heidän yrityksensä\, kun alumnit saapuvat lavalle pitchaamaan.\nPitchauksien lisäksi Suomen kysytyin valokuvaaja Janita Autio jakaa uratarinaansa. Miten Janita Autiosta tuli se Janita Autio?\nTapahtuman tiedot:\nMitä? Turbiini All-StarsMissä? Arabia-sali\, Arabian kampus\, MetropoliaMilloin? Keskiviikkona 22.10.2025 klo 12:00-16:00Kenelle? Tapahtuma on avoin kaikille yrittäjyydestä kiinnostuneille\nOhjelma:\n🔥Janita Autio\, valokuvaaja\, yrittäjä\, ilmiö. 🚀 Turbiini-alumnien pitchaukset\, kuusi opiskelijaa\, kuusi tarinaa.💡 Avajaisseremonia 🇫🇮🇺🇸 Tapahtuma on kaksikielinen. Osa ohjelmasta on suomeksi\, osa englanniksi. Ohjelma päivittyy.\nMiksi osallistua?\n🎭 Inspiroidu lavaohjelmasta.🍬 Nauti tarjoiluista. 💥 Koe show.\nTurbiinissa uskomme\, että yrittäjyys on yksi tapa rakentaa omannäköistä työelämää ja sitä saa tutkia rauhassa.\nEi business hustlausta\, vaan aitoa puhetta yrittäjyydestä.\nIlmoittaudu nyt\, niin takaat\, että mahdut mukaan.
LOCATION:Arabia-Sali\, Hämeentie 135D\, 00560\, Helsinki\, Finland
URL:http://register.metropolia.fi/turbiiniallstars2025
END:VEVENT
END:VCALENDAR
